BEGIN:VCALENDAR
PRODID:-//eluceo/ical//2.0/EN
VERSION:2.0
CALSCALE:GREGORIAN
BEGIN:VEVENT
UID:108f50e3e3b413de14b66d90632ad850
DTSTAMP:20260421T234354Z
SUMMARY:The Toronto Heschel School Open House
DESCRIPTION:UJA Federation of Greater Toronto\nJewish Toronto Calendar\nhtt
 ps://jewishtoronto.com/calendar/the-toronto-heschel-school-open-house-1634
 590526\n\nThe Toronto Heschel School Open House will be taking place simul
 taneously live for vaccinated adults who wish to attend in person and on Z
 oom for those who wish to attend online.
DTSTART;TZID=America/Toronto:20211110T193000
DTEND;TZID=America/Toronto:20211110T210000
END:VEVENT
END:VCALENDAR
