BEGIN:VCALENDAR
PRODID:-//eluceo/ical//2.0/EN
VERSION:2.0
CALSCALE:GREGORIAN
BEGIN:VEVENT
UID:0d429897df3a55f0844d08678a91b098
DTSTAMP:20260423T034253Z
SUMMARY:The Toronto Heschel School AWEsome and WONDERful Tot Shabbat Progra
 m
DESCRIPTION:UJA Federation of Greater Toronto\nJewish Toronto Calendar\nhtt
 ps://jewishtoronto.com/calendar/the-toronto-heschel-school-awesome-and-won
 derful-tot-shabbat-programsasas\n\n
DTSTART;TZID=America/Toronto:20240510T000000
DTEND;TZID=America/Toronto:20240510T235959
END:VEVENT
END:VCALENDAR
