BEGIN:VCALENDAR
PRODID:-//eluceo/ical//2.0/EN
VERSION:2.0
CALSCALE:GREGORIAN
BEGIN:VEVENT
UID:d2ef94d395d6eba6e7b68a122c220475
DTSTAMP:20260424T155702Z
SUMMARY:The Song Shul's Tashlich
DESCRIPTION:UJA Federation of Greater Toronto\nJewish Toronto Calendar\nhtt
 ps://jewishtoronto.com/calendar/the-song-shuls-tashlich-1570140782\n\nTash
 lich is when we discard our sins (in the form of breadcrumbs) into a body 
 of water. It can be done any time from Rosh Hashana until the last day of 
 Sukkot. At The Song Shul we do it just before Yom Kippur. Join us in a bea
 utiful part of Toronto for this meaningful morning ceremony! Of course\, C
 antor Simon and Aliza explain it all. . .\nBring your sins—white\, wheat
 \, multi-grain and gluten free!\n\nGlendon College\, 2275 Bayview Avenue\n
 Go through the college gates\, take first left\, follow...
DTSTART;TZID=America/Toronto:20191006T110000
DTEND;TZID=America/Toronto:20191006T114500
END:VEVENT
END:VCALENDAR
