BEGIN:VCALENDAR
PRODID:-//eluceo/ical//2.0/EN
VERSION:2.0
CALSCALE:GREGORIAN
BEGIN:VEVENT
UID:9ac21358743c12e86c1d96d37704135d
DTSTAMP:20260425T110654Z
SUMMARY:The Song Shul’s Special Voices Choir
DESCRIPTION:UJA Federation of Greater Toronto\nJewish Toronto Calendar\nhtt
 ps://jewishtoronto.com/calendar/the-song-shuls-special-voices-choir-157494
 9357\n\nThe Song Shul’s Special Voices Choir The Song Shul is thrilled t
 o present Toronto’s Jewish choir for adults (18+) with disabilities. Spe
 cial Voices Choir sings English and Hebrew\, Broadway and tongue twisters\
 , wherever our voices take us!  This is a wonderful opportunity for people
  to come together in friendship and join voices to make beautiful music an
 d have A LOT of fun. Rehearsals are now on  Thursday evenings 5:30 – 6:3
 0 PM Beginning December 5\, 2019 $120 for the entire season but ...
DTSTART;TZID=America/Toronto:20191205T173000
DTEND;TZID=America/Toronto:20191205T183000
END:VEVENT
END:VCALENDAR
