BEGIN:VCALENDAR
PRODID:-//eluceo/ical//2.0/EN
VERSION:2.0
CALSCALE:GREGORIAN
BEGIN:VEVENT
UID:12b1d36e60a70af1df7b9f817e89eb11
DTSTAMP:20260422T061220Z
SUMMARY:The Song Shul's Slichot Service
DESCRIPTION:UJA Federation of Greater Toronto\nJewish Toronto Calendar\nhtt
 ps://jewishtoronto.com/calendar/the-song-shuls-slichot-service-1568738503\
 n\nSlichot. Only Slichot. All Music. Only at The Song Shul.\nOur Slichot s
 ervice put us on the map in 2016 when it was broadcast live across Canada.
 \nAnd it keeps getting better with world renowned Cantor Simon Spiro and t
 he amazing Toronto Festival Singers.\nCome hear what everyone’s talking 
 about. Experience what Slichot is supposed to be. Get ready for the New Ye
 ar with the most exquisite and soul-stirring musical sounds\, ancient and 
 new.\nIf you haven’t heard Slichot at The Song Shul\, yo...
DTSTART;TZID=America/Toronto:20190921T223000
DTEND;TZID=America/Toronto:20190922T000000
END:VEVENT
END:VCALENDAR
