BEGIN:VCALENDAR
PRODID:-//eluceo/ical//2.0/EN
VERSION:2.0
CALSCALE:GREGORIAN
BEGIN:VEVENT
UID:04b484aa20ebddd297188d0c90167642
DTSTAMP:20260420T150749Z
SUMMARY:The Song Shul's Shabbat Service
DESCRIPTION:UJA Federation of Greater Toronto\nJewish Toronto Calendar\nhtt
 ps://jewishtoronto.com/calendar/the-song-shuls-shabbat-service-1518122821\
 n\nTHIS SHABBAT\, FEBRUARY 10th. . ..enjoy the amazing music from Cantor S
 piro and the Toronto Festival Singers\, as well as the lively spirit from 
 the happy throngs that attend our service!\nNeed a Mid-Winter Pick-Me-Up? 
 Then take The Song Shul's tonic!\nSing with us! Pray with us! Rejoice with
  us! Celebrate Shabbat!\n(500 people came to our last Shabbat service. Wer
 e you there?)\nThis week we welcome Special Guest Speaker\, the phenomenal
  Michael Landsberg\n"Mental Illness: Finally Lifting the St...
DTSTART;TZID=America/Toronto:20180210T090000
DTEND;TZID=America/Toronto:20180210T113000
END:VEVENT
END:VCALENDAR
