BEGIN:VCALENDAR
PRODID:-//eluceo/ical//2.0/EN
VERSION:2.0
CALSCALE:GREGORIAN
BEGIN:VEVENT
UID:60fbec126e5949c8477efedfad80e7a0
DTSTAMP:20260422T194050Z
SUMMARY:The Song Shul's Rosh Chodesh Group for Women
DESCRIPTION:UJA Federation of Greater Toronto\nJewish Toronto Calendar\nhtt
 ps://jewishtoronto.com/calendar/the-song-shuls-rosh-chodesh-group-for-wome
 n-1574948848\n\nDid you know that Rosh Chodesh (the new month) was given t
 o women as a present from G-d? To hear more about it\, you're invited to T
 he Song Shul's Rosh Chodesh Group for Women\, led by Aliza Spiro. Celebrat
 e the new month of Kislev with stories\, song\, discussion\, camaraderie a
 nd new insights into Hanuka that will fascinate you! Refreshments served. 
 New time: 11:30AM - 12:30 PM contact info@songshul.com for location Song S
 hul members: Free Non-members: $10Sponsor: The Song Shul
DTSTART;TZID=America/Toronto:20191203T113000
DTEND;TZID=America/Toronto:20191203T123000
END:VEVENT
END:VCALENDAR
