BEGIN:VCALENDAR
PRODID:-//eluceo/ical//2.0/EN
VERSION:2.0
CALSCALE:GREGORIAN
BEGIN:VEVENT
UID:38cf876eacf1893b818e997266a773e4
DTSTAMP:20260421T165937Z
SUMMARY:The Song Shul's Rosh Chodesh Group for Women
DESCRIPTION:UJA Federation of Greater Toronto\nJewish Toronto Calendar\nhtt
 ps://jewishtoronto.com/calendar/the-song-shuls-rosh-chodesh-group-for-wome
 n-1553775899\n\nDid you know that Rosh Chodesh (the new month) was given t
 o women as a present from G-d? To hear more about it\, you're invited to T
 he Song Shul's Rosh Chodesh Group for Women\, led by Aliza Spiro.  Celebra
 te the new month of Nissan with stories\, song\, discussion\, camaraderie 
 and new insights that will fascinate you! Refreshments served. 12:00 noon 
 - 1:00 PM contact info@songshul.com for location Song Shul members: Free N
 on-members: $10
DTSTART;TZID=America/Toronto:20190408T120000
DTEND;TZID=America/Toronto:20190408T130000
END:VEVENT
END:VCALENDAR
