BEGIN:VCALENDAR
PRODID:-//eluceo/ical//2.0/EN
VERSION:2.0
CALSCALE:GREGORIAN
BEGIN:VEVENT
UID:e5074ffd9c97952a0d054c2484b72fd5
DTSTAMP:20260419T200842Z
SUMMARY:The Song Shul's Rosh Chodesh Group for Women
DESCRIPTION:UJA Federation of Greater Toronto\nJewish Toronto Calendar\nhtt
 ps://jewishtoronto.com/calendar/the-song-shuls-rosh-chodesh-group-for-wome
 n-1538822501\n\nDid you know that Rosh Chodesh (the new month) was given t
 o women as a present from G-d? To hear more about it\, you're invited to T
 he Song Shul's Rosh Chodesh Group for Women\, led by Aliza Spiro. Celebrat
 e the new month of Tevet with stories\, song\, discussion\, camaraderie an
 d new insights that will fascinate you! Refreshments served.\n\n12:00 noon
  - 1:00 PM\ncontact info@songshul.com for location\nSong Shul members: Fre
 e\nNon-members: $10\n\nSponsor: The Song Shul
DTSTART;TZID=America/Toronto:20181210T120000
DTEND;TZID=America/Toronto:20181210T130000
END:VEVENT
END:VCALENDAR
