BEGIN:VCALENDAR
PRODID:-//eluceo/ical//2.0/EN
VERSION:2.0
CALSCALE:GREGORIAN
BEGIN:VEVENT
UID:cb91e69347cebe94ef3b2456f3df47cf
DTSTAMP:20260422T153922Z
SUMMARY:The Song Shul's Rosh Chodesh Group for Women
DESCRIPTION:UJA Federation of Greater Toronto\nJewish Toronto Calendar\nhtt
 ps://jewishtoronto.com/calendar/the-song-shuls-rosh-chodesh-group-for-wome
 n-1537192606\n\nDid you know that Rosh Chodesh (the new month) was given t
 o women as a present from G-d? To hear more about it\, you're invited to T
 he Song Shul's Rosh Chodesh Group for Women\, led by Aliza Spiro. Celebrat
 e the new month of Heshvan with stories\, song\, discussion\, camaraderie 
 and new insights that will fascinate you! Refreshments served.\n12:00 noon
  - 1:00 PMcontact info@songshul.com for location\nSong Shul members: Free\
 nNon-members: $10
DTSTART;TZID=America/Toronto:20181015T120000
DTEND;TZID=America/Toronto:20181015T130000
END:VEVENT
END:VCALENDAR
