BEGIN:VCALENDAR
PRODID:-//eluceo/ical//2.0/EN
VERSION:2.0
CALSCALE:GREGORIAN
BEGIN:VEVENT
UID:4835f12c996e242d50f66b8920c9d69e
DTSTAMP:20260421T142013Z
SUMMARY:The Song Shul's Renowned Simchat Torah Service
DESCRIPTION:UJA Federation of Greater Toronto\nJewish Toronto Calendar\nhtt
 ps://jewishtoronto.com/calendar/the-song-shuls-renowned-simchat-torah-serv
 ice-1537276722\n\nRethink Simchat Torah. Sing and dance with the Torahs at
  The Song Shul's musical morning service\, featuring world-renowned Cantor
  Simon Spiro and The Toronto Festival Singers\, the finest synagogue choir
  in North America. A fabulous a cappella davening-in-the-round\, Starbucks
  coffee lounge\, Torah bubble parade for the kiddies\, delicious Kiddush\,
  and more!\nEveryone welcome.\n\n \n\n 
DTSTART;TZID=America/Toronto:20181002T090000
DTEND;TZID=America/Toronto:20181002T113000
END:VEVENT
END:VCALENDAR
