BEGIN:VCALENDAR
PRODID:-//eluceo/ical//2.0/EN
VERSION:2.0
CALSCALE:GREGORIAN
BEGIN:VEVENT
UID:c47b3bb7ac2a9190a959a6b9bc00436c
DTSTAMP:20260424T160134Z
SUMMARY:The Song Shul's Remembrance Shabbat
DESCRIPTION:UJA Federation of Greater Toronto\nJewish Toronto Calendar\nhtt
 ps://jewishtoronto.com/calendar/the-song-shuls-remembrance-shabbat-1572872
 760\n\nThis Shabbat our special musically-themed service commemorates Reme
 mbrance Day and Kristallnacht.  Beautiful soul-stirring wartime melodies t
 o pay tribute to those who gave their lives protecting our lands.If you or
  someone in your family served in a war or was a survivor of Kristallnacht
 \, please come and be recognized in this most meaningful service (feel fre
 e to come in uniform or bring your medals).Guest Speaker: Michael Landsber
 g Michael has become one of our country's strongest voices pu...
DTSTART;TZID=America/Toronto:20191109T090000
DTEND;TZID=America/Toronto:20191109T113000
END:VEVENT
END:VCALENDAR
