BEGIN:VCALENDAR
PRODID:-//eluceo/ical//2.0/EN
VERSION:2.0
CALSCALE:GREGORIAN
BEGIN:VEVENT
UID:3b3b8cae4f4f50d711d0ae08c59996af
DTSTAMP:20260421T221308Z
SUMMARY:The Song Shul's "Pop Shabbat"
DESCRIPTION:UJA Federation of Greater Toronto\nJewish Toronto Calendar\nhtt
 ps://jewishtoronto.com/calendar/the-song-shuls-pop-shabbat-1560524078\n\nC
 elebrate Father’s Day with “POP SHABBAT”\nfeaturing the melodies of 
 ABBA!\nThis Shabbat – June 15th! It’s the service that everyone waits 
 for all year long! and YOU DON’T WANT TO MISS IT!\nBring your father or 
 father figure (and your kids\, grandparents and friends) to enjoy our exci
 ting Father’s Day “Pop Shabbat” morning service with favourite ABBA 
 melodies (get it? Father’s Day? Abba?). There is absolutely NO service l
 ike this anywhere!\nPlus special musical send-off to ...
DTSTART;TZID=America/Toronto:20190615T090000
DTEND;TZID=America/Toronto:20190615T113000
END:VEVENT
END:VCALENDAR
