BEGIN:VCALENDAR
PRODID:-//eluceo/ical//2.0/EN
VERSION:2.0
CALSCALE:GREGORIAN
BEGIN:VEVENT
UID:d65d3ffdfe1141ee7dc7e108d8dc7bce
DTSTAMP:20260423T020023Z
SUMMARY:The Song Shul’s Pesach Service –First Day
DESCRIPTION:UJA Federation of Greater Toronto\nJewish Toronto Calendar\nhtt
 ps://jewishtoronto.com/calendar/the-song-shuls-pesach-service-first-day-15
 55077871\n\nThe Song Shul’s Pesach Service – First Day\nMusic. Meaning
 . Inspiration.\nCantor Simon Spiro and the amazing Toronto Festival Singer
 s lead us in the most superb a cappella musical Pesach morning davening. T
 here is no service like this anywhere!\n\nNew : 9:00 – 9:30 AM The “Be
 gin-yan”—a 30-minute introduction minyan to davening for people who ar
 e beginner.\nNo registration/ticket required to attend this service.\nWe m
 eet at Bialik\n2760 Bathurst Street\n9:00 – 11:30 AM\nbut come ...
DTSTART;TZID=America/Toronto:20190420T090000
DTEND;TZID=America/Toronto:20190420T113000
END:VEVENT
END:VCALENDAR
