BEGIN:VCALENDAR
PRODID:-//eluceo/ical//2.0/EN
VERSION:2.0
CALSCALE:GREGORIAN
BEGIN:VEVENT
UID:a7300fbe08736341ad0be6e55c2b3c19
DTSTAMP:20260420T005515Z
SUMMARY:The Song Shul’s Pesach Service – Second Day
DESCRIPTION:UJA Federation of Greater Toronto\nJewish Toronto Calendar\nhtt
 ps://jewishtoronto.com/calendar/the-song-shuls-pesach-service--second-day-
 1555078138\n\nThe Song Shul’s Pesach Service – Second Day\nMusic. Mean
 ing. Inspiration.\nCantor Simon Spiro and the amazing Toronto Festival Sin
 gers lead us in the most superb a cappella musical Pesach morning davening
 . There is no service like this anywhere!\nNew: 9:00 – 9:30 AM The “Be
 gin-yan”—a 30-minute introduction minyan to davening for people who ar
 e beginners.\n\nNo registration/ticket required to attend this service.\n\
 nWe meet at Bialik\n2760 Bathurst Street\n9:00 – 11:30 AM\nbut co...
DTSTART;TZID=America/Toronto:20190421T090000
DTEND;TZID=America/Toronto:20190421T113000
END:VEVENT
END:VCALENDAR
