BEGIN:VCALENDAR
PRODID:-//eluceo/ical//2.0/EN
VERSION:2.0
CALSCALE:GREGORIAN
BEGIN:VEVENT
UID:2de75245f98534137c16ef04628a0950
DTSTAMP:20260420T161118Z
SUMMARY:The Song Shul's Parshat Behar Shabbat Service
DESCRIPTION:UJA Federation of Greater Toronto\nJewish Toronto Calendar\nhtt
 ps://jewishtoronto.com/calendar/the-song-shuls-parshat-behar-shabbat-servi
 ce-1557932061\n\nCantor Simon Spiro and the Toronto Festival Singers featu
 re springtime melodies and a special tribute to cottage owners beginning t
 heir season\, for an upbeat musical Cottage Send-Off!\nYoung children are 
 invited to our special Music Mini-yan\, just for kids\, and a chance for t
 hem to learn new songs\, followed by the Torah Bubble Parade\n\nGuest spea
 ker\, novelist Joyce Wayne\, author of "Last Night of the World."\n9:00-11
 :30 AM All welcome\nNo registration/ticket required to attend this service
 .
DTSTART;TZID=America/Toronto:20190525T090000
DTEND;TZID=America/Toronto:20190525T113000
END:VEVENT
END:VCALENDAR
