BEGIN:VCALENDAR
PRODID:-//eluceo/ical//2.0/EN
VERSION:2.0
CALSCALE:GREGORIAN
BEGIN:VEVENT
UID:903a01bb93c3b5e69dcc3fb20454e8b3
DTSTAMP:20260422T050739Z
SUMMARY:The Song Shul's Musical Wellness Experience
DESCRIPTION:UJA Federation of Greater Toronto\nJewish Toronto Calendar\nhtt
 ps://jewishtoronto.com/calendar/the-song-shuls-musical-wellness-experience
 -1540725502\n\nOne of the distinctive programs at The Song Shul is our mon
 thly Musical Healing Hour. Led by Aliza and Cantor Simon Spiro\, this spec
 ial hour is for all who need physical\, emotional or spiritual healing. In
 formal and intimate\, through song and narrative we create a warm\, welcom
 ing and sacred space for all.\nCome in jeans or a suit\, come to sing or t
 o listen\, to connect with others or to remain in your own thoughts. Let t
 he music envelop you\, let the spirit around you give you comfort. Find ho
 p...
DTSTART;TZID=America/Toronto:20181113T193000
DTEND;TZID=America/Toronto:20181113T210000
END:VEVENT
END:VCALENDAR
