BEGIN:VCALENDAR
PRODID:-//eluceo/ical//2.0/EN
VERSION:2.0
CALSCALE:GREGORIAN
BEGIN:VEVENT
UID:d3716f69bde5f30c9d41853d9aa576c4
DTSTAMP:20260422T113139Z
SUMMARY:The Song Shul's Musical Wellness Experience
DESCRIPTION:UJA Federation of Greater Toronto\nJewish Toronto Calendar\nhtt
 ps://jewishtoronto.com/calendar/the-song-shuls-musical-wellness-experience
 -1537890639\n\nOne of the distinctive programs at The Song Shul is our mon
 thly Musical Healing Hour. Led by Aliza and Cantor Simon Spiro\, this spec
 ial hour is for all who need physical\, emotional or spiritual healing. In
 formal and intimate\, through song and narrative we create a warm\, welcom
 ing and sacred space for all.\nCome in jeans or a suit\, come to sing or t
 o listen\, to connect with others or to remain in your own thoughts. Let t
 he music envelop you\, let the spirit around you give you comfort. Find ho
 p...
DTSTART;TZID=America/Toronto:20181009T193000
DTEND;TZID=America/Toronto:20181009T210000
END:VEVENT
END:VCALENDAR
