BEGIN:VCALENDAR
PRODID:-//eluceo/ical//2.0/EN
VERSION:2.0
CALSCALE:GREGORIAN
BEGIN:VEVENT
UID:d56f6a60452a62db2a03037c4eecf6ce
DTSTAMP:20260419T183047Z
SUMMARY:The Song Shul's Community Yizkor Service
DESCRIPTION:UJA Federation of Greater Toronto\nJewish Toronto Calendar\nhtt
 ps://jewishtoronto.com/calendar/the-song-shuls-community-yizkor-service-15
 59058109\n\nThe Song Shul invites you to the Community Yizkor Service on 2
 nd day Shavuot. The musical Shavuot morning service begins at 9:00 AM with
  world renowned Cantor Simon Spiro. At 9:30 he is joined by The Toronto Fe
 stival Singers\, the finest synagogue choir in North America\, for a music
 al a cappella Hallel followed by the rest of the fabulous Song Shul daveni
 ng-in-the-round.\nThe moving and exquisite Community Yizkor Service will b
 e at approx 11:00. This hauntingly beautiful music will stir your s...
DTSTART;TZID=America/Toronto:20190610T090000
DTEND;TZID=America/Toronto:20190610T113000
END:VEVENT
END:VCALENDAR
