BEGIN:VCALENDAR
PRODID:-//eluceo/ical//2.0/EN
VERSION:2.0
CALSCALE:GREGORIAN
BEGIN:VEVENT
UID:169013f3f49d2dbf6dfe7aa3f180f54f
DTSTAMP:20260420T062302Z
SUMMARY:The Song Shul's "Brush up your Siddur"
DESCRIPTION:UJA Federation of Greater Toronto\nJewish Toronto Calendar\nhtt
 ps://jewishtoronto.com/calendar/the-song-shuls-brush-up-your-siddur-151861
 2527\n\nJoin The Song Shul's exciting new class\, given by Aliza Spiro\, f
 or people who can read Hebrew and want to understand what we're singing ab
 out at every Shabbat service! Five classes. Members $50\; Non-members $90.
  www.songshul.com.
DTSTART;TZID=America/Toronto:20180225T100000
DTEND;TZID=America/Toronto:20180225T110000
END:VEVENT
END:VCALENDAR
