BEGIN:VCALENDAR
PRODID:-//eluceo/ical//2.0/EN
VERSION:2.0
CALSCALE:GREGORIAN
BEGIN:VEVENT
UID:8c39bb1eedd08f98baf8a6934893a722
DTSTAMP:20260425T110634Z
SUMMARY:The Song Shul's "Bring a Friend" Shabbat
DESCRIPTION:UJA Federation of Greater Toronto\nJewish Toronto Calendar\nhtt
 ps://jewishtoronto.com/calendar/the-song-shuls-bring-a-friend-shabbat-1568
 077890\n\n"Bring a Friend" Shabbat\nBring a friend to the first Shabbat se
 rvice of the new season at The Song Shul. Join us for Music\, Meaning and 
 Inspiration. World-renowned Cantor Simon Spiro and the fabulous Toronto Fe
 stival Singers lead the in-the-round a cappella Shabbat service\, with the
  signature sound of The Song Shul.\nFind out what everyone's talking about
 ! Rethink Shul.
DTSTART;TZID=America/Toronto:20190914T090000
DTEND;TZID=America/Toronto:20190914T113000
END:VEVENT
END:VCALENDAR
