BEGIN:VCALENDAR
PRODID:-//eluceo/ical//2.0/EN
VERSION:2.0
CALSCALE:GREGORIAN
BEGIN:VEVENT
UID:d19e6e978147678004c2a263ec1cc3ec
DTSTAMP:20260425T013135Z
SUMMARY:The Song Shul's  "Many Lives\, One People"
DESCRIPTION:UJA Federation of Greater Toronto\nJewish Toronto Calendar\nhtt
 ps://jewishtoronto.com/calendar/the-song-shuls--many-lives-one-people-1539
 117971\n\n"Many Lives\, One People"\nThe Song Shul's groundbreaking progra
 m highlights the colourful and varied backgrounds of the Jewish people fro
 m around the globe.\nEach month we feature a speaker who was born in anoth
 er country\, sharing stories of what it was like to grow up Jewish in that
  country. Hear about home rituals\, community events\, political challenge
 s\, anti-Semitism and more.\nFollowing that\, the Canadian-born child or g
 randchild of the speaker then shares stories of growing up here in Ca...
DTSTART;TZID=America/Toronto:20181024T190000
DTEND;TZID=America/Toronto:20181024T200000
END:VEVENT
END:VCALENDAR
