BEGIN:VCALENDAR
PRODID:-//eluceo/ical//2.0/EN
VERSION:2.0
CALSCALE:GREGORIAN
BEGIN:VEVENT
UID:a4664663a2f2728a38f6367954acb992
DTSTAMP:20260420T115158Z
SUMMARY:The Song Shul's  " Many Lives\, One People"
DESCRIPTION:UJA Federation of Greater Toronto\nJewish Toronto Calendar\nhtt
 ps://jewishtoronto.com/calendar/the-song-shuls---many-lives-one-people-151
 8195388\n\nThis groundbreaking program from The Song Shul highlights the c
 olourful and varied backgrounds of the Jewish people from around the globe
 . First\, we feature an immigrant sharing stories of what it was like to g
 row up Jewish in another part of the world. Hear about home rituals\, comm
 unity events\, political challenges\, anti-semitism and more.\nThen\, the 
 Canadian-born child or grandchild of the speaker shares stories of growing
  up here in Canada as the offspring of a foreigner. Hear how the trad...
DTSTART;TZID=America/Toronto:20180227T190000
DTEND;TZID=America/Toronto:20180227T200000
END:VEVENT
END:VCALENDAR
