BEGIN:VCALENDAR
PRODID:-//eluceo/ical//2.0/EN
VERSION:2.0
CALSCALE:GREGORIAN
BEGIN:VEVENT
UID:0e0c8cb3aaaae1a06995245be1fa40f6
DTSTAMP:20260423T134036Z
SUMMARY:The Song Shul-Shabbat Shirah - Celebrate Neil Diamond!
DESCRIPTION:UJA Federation of Greater Toronto\nJewish Toronto Calendar\nhtt
 ps://jewishtoronto.com/calendar/the-song-shul-shabbat-shirah---celebrate-n
 eil-diamond-1546280527\n\nThe Song Shul's Shabbat Shirah - Celebrate Neil 
 Diamond!\nRethink Shul.\n\nOur renowned Shabbat morning service just keeps
  getting better--\nJoin us as we pay tribute to the music of songwriting l
 egend Neil Diamond. Cantor Simon and the amazing Toronto Festival Singers 
 lead the traditional davening with new and exciting a cappella vocal arran
 gements of familiar Neil Diamond melodies. There is no other service like 
 this!\nDue to the capacity crowds\, The Song Shul requires pre-registratio
 n and ...
DTSTART;TZID=America/Toronto:20190119T090000
DTEND;TZID=America/Toronto:20190119T113000
END:VEVENT
END:VCALENDAR
