BEGIN:VCALENDAR
PRODID:-//eluceo/ical//2.0/EN
VERSION:2.0
CALSCALE:GREGORIAN
BEGIN:VEVENT
UID:8a5fe87999b398526bb3e2c1c064e839
DTSTAMP:20260422T131933Z
SUMMARY:The Significance of Eight: Why is Chanukah Really Eight Days Long?
DESCRIPTION:UJA Federation of Greater Toronto\nJewish Toronto Calendar\nhtt
 ps://jewishtoronto.com/calendar/the-significance-of-eight-why-is-chanukah-
 really-eight-days-long-1479948364\n\nDo you know why Chanukah is celebrate
 d for eight days? It is not as simple as you think. In this engaging learn
 ing session\, we will explore the historical\, national\, and spiritual re
 asoning behind the rabbis creating an eight-day festival\, marking a polit
 ical victory\, a religious/national revival\, and a spiritual renewal in t
 he dead of winter. Let's explore how these insights can shape our intentio
 ns and practice over the eight nights of Chanukah.
DTSTART;TZID=America/Toronto:20161206T190000
DTEND;TZID=America/Toronto:20161206T210000
END:VEVENT
END:VCALENDAR
