BEGIN:VCALENDAR
PRODID:-//eluceo/ical//2.0/EN
VERSION:2.0
CALSCALE:GREGORIAN
BEGIN:VEVENT
UID:8b7d79a02dcee80620e347b8d0a011a3
DTSTAMP:20260420T072053Z
SUMMARY:The Sharon Cole Memorial Lecture
DESCRIPTION:UJA Federation of Greater Toronto\nJewish Toronto Calendar\nhtt
 ps://jewishtoronto.com/calendar/the-sharon-cole-memorial-lecture-151725623
 4\n\nThe Cole Family & Club Dayan\, Na'amat Canada Toronto invite you to T
 he Sharon Cole Memorial Lecture. Our guest speaker is the 2017 Scotiabank 
 Giller prize winner Michael Redhill\, author of Bellevue Square. Admission
  is free and all are welcome to attend. Copies of Bellevue Square will be 
 available for purchase. Refreshments will be served. We look forward to se
 eing you.
DTSTART;TZID=America/Toronto:20180425T200000
DTEND;TZID=America/Toronto:20180425T220000
END:VEVENT
END:VCALENDAR
