BEGIN:VCALENDAR
PRODID:-//eluceo/ical//2.0/EN
VERSION:2.0
CALSCALE:GREGORIAN
BEGIN:VEVENT
UID:b4671ba8ee50b0a946406d8f0e97e1fc
DTSTAMP:20260422T230943Z
SUMMARY:The Shabbat Project: Beth Tikvah Synagogue
DESCRIPTION:UJA Federation of Greater Toronto\nJewish Toronto Calendar\nhtt
 ps://jewishtoronto.com/calendar/the-shabbat-project-beth-tikvah-synagogue-
 1444999474\n\nBeth Tikvah invites you to experience the Shabbat Project we
 ekend with us beginning on Friday\, October 23 at 6:00pm with the Blue Jea
 n Shabbat Project. Invite friends and enjoy a special Friday night experie
 nce together. Members: Adults $20\, Kids $15\; Non-members: Adults $27\, K
 ids $20. Traditional Friday night dinner reservations required by October 
 19. Contact the Synagogue office at 416-221-3433.
DTSTART;TZID=America/Toronto:20151023T180000
DTEND;TZID=America/Toronto:20151024T180000
END:VEVENT
END:VCALENDAR
