BEGIN:VCALENDAR
PRODID:-//eluceo/ical//2.0/EN
VERSION:2.0
CALSCALE:GREGORIAN
BEGIN:VEVENT
UID:ccb098091e9ee81d60b760822cb9f79d
DTSTAMP:20260420T131612Z
SUMMARY:The Sam & Sarah Kerzner Holocaust Memorial Institute Scholar Weeken
 d 
DESCRIPTION:UJA Federation of Greater Toronto\nJewish Toronto Calendar\nhtt
 ps://jewishtoronto.com/calendar/the-sam-sarah-kerzner-holocaust-memorial-i
 nstitute-scholar-weekend\n\nBeth Emeth Bais Yehuda Synagogue in conjunctio
 n with Beth Tzedec Congregation present \n\nThe Sam & Sarah Kerzner Holoca
 ust Memorial Institute Scholar Weekend featuring Professor Stephen Berk\,\
 n\nThe Henry and Sally Schaffer Professor of Holocaust and Jewish Studies\
 , Union College\, New York\n\n70 Years after Auschwitz\n\nThursday\, May 
 28th at 7:30 pm  - 70 Years Later: The Second World War in Historical Per
 spective \n\nDessert Reception Following\n\nFriday\, May 29th Kabbalat Sha
 bbat 6:30 pm...
DTSTART;TZID=America/Toronto:20150528T193000
DTEND;TZID=America/Toronto:20150531T110000
END:VEVENT
END:VCALENDAR
