BEGIN:VCALENDAR
PRODID:-//eluceo/ical//2.0/EN
VERSION:2.0
CALSCALE:GREGORIAN
BEGIN:VEVENT
UID:99ccf41947c528dbd6a700d1dcff3091
DTSTAMP:20260424T003023Z
SUMMARY:The Revolt vs. Modernity: The Writing of the Complete Artscroll Sid
 dur 
DESCRIPTION:UJA Federation of Greater Toronto\nJewish Toronto Calendar\nhtt
 ps://jewishtoronto.com/calendar/the-revolt-vs-modernity-the-writing-of-the
 -complete-artscroll-siddur\n\nWith Rabbi Moshe Meirovich\nRabbi Meirovich 
 will explore the religious underpinnings of the Complete Artscroll Siddur 
 as a liturgical phenomenon that set it apart from all other contemporary p
 rayer books.  No charge – everyone welcome.\n 
DTSTART;TZID=America/Toronto:20150218T193000
DTEND;TZID=America/Toronto:20150218T213000
END:VEVENT
END:VCALENDAR
