BEGIN:VCALENDAR
PRODID:-//eluceo/ical//2.0/EN
VERSION:2.0
CALSCALE:GREGORIAN
BEGIN:VEVENT
UID:65e8d3b53c91a54643ddbeecf94bdf91
DTSTAMP:20260421T051224Z
SUMMARY:The Recovery Brunch
DESCRIPTION:UJA Federation of Greater Toronto\nJewish Toronto Calendar\nhtt
 ps://jewishtoronto.com/calendar/the-recovery-brunch-1491225500\n\nFuture S
 inai’s Recovery Brunch brings together some of Toronto’s best and brig
 htest young professionals – all in support of Bridgepoint Active Healthc
 are\, part of Sinai Health System. This year\, more than ever\, a Sunday a
 fternoon lounging at Momofuku with a distinct menu to help recover from th
 e long winter is much needed!
DTSTART;TZID=America/Toronto:20170528T110000
DTEND;TZID=America/Toronto:20170528T140000
END:VEVENT
END:VCALENDAR
