BEGIN:VCALENDAR
PRODID:-//eluceo/ical//2.0/EN
VERSION:2.0
CALSCALE:GREGORIAN
BEGIN:VEVENT
UID:62828b46dadb1b60815f80791ca1e771
DTSTAMP:20260425T173930Z
SUMMARY:The Reality of the Impossible Dream
DESCRIPTION:UJA Federation of Greater Toronto\nJewish Toronto Calendar\nhtt
 ps://jewishtoronto.com/calendar/the-reality-of-the-impossible-dream\n\nAn 
 exciting live documentary memoir production to commemorate the 100th anniv
 ersary of the Balfour Declaration at the Toronto Center for the Arts - a c
 ommunity-wide event.\n\nStudents - $18\n\nAdults - $36
DTSTART;TZID=America/Toronto:20171101T000000
DTEND;TZID=America/Toronto:20171101T000000
END:VEVENT
END:VCALENDAR
