BEGIN:VCALENDAR
PRODID:-//eluceo/ical//2.0/EN
VERSION:2.0
CALSCALE:GREGORIAN
BEGIN:VEVENT
UID:dc64cc3a750452404d9c147325038161
DTSTAMP:20260422T125536Z
SUMMARY:The Power of Small Conversations presented by the NCJWC and the THM
DESCRIPTION:UJA Federation of Greater Toronto\nJewish Toronto Calendar\nhtt
 ps://jewishtoronto.com/calendar/the-power-of-small-conversations-presented
 -by-the-ncjwc-and-the-thm-1768508184\n\nHosted by the National Council of 
 Jewish Women of Canada\, Toronto and the Toronto Holocaust Museum
DTSTART;TZID=America/Toronto:20261020T193000
DTEND;TZID=America/Toronto:20261020T213000
END:VEVENT
END:VCALENDAR
