BEGIN:VCALENDAR
PRODID:-//eluceo/ical//2.0/EN
VERSION:2.0
CALSCALE:GREGORIAN
BEGIN:VEVENT
UID:0645e99fcaf1a1e16400f6897fde2355
DTSTAMP:20260420T102329Z
SUMMARY:The Power of Political Cartoons
DESCRIPTION:UJA Federation of Greater Toronto\nJewish Toronto Calendar\nhtt
 ps://jewishtoronto.com/calendar/the-power-of-political-cartoons-1503321873
 \n\nA daytime lecture with guest speaker Ralph Wintrob\nLearn about Canadi
 an Jewish cartoonists Josh Silburt and Gary Clement\, and what it takes to
  create editorial illustrations that influence public perceptions.
DTSTART;TZID=America/Toronto:20170928T130000
DTEND;TZID=America/Toronto:20170928T150000
END:VEVENT
END:VCALENDAR
