BEGIN:VCALENDAR
PRODID:-//eluceo/ical//2.0/EN
VERSION:2.0
CALSCALE:GREGORIAN
BEGIN:VEVENT
UID:f651cdbeecb5cdb70338722b7a23d094
DTSTAMP:20260420T101950Z
SUMMARY:The Power of Art and Mindfulness — Stitching the Social Fabric To
 gether
DESCRIPTION:UJA Federation of Greater Toronto\nJewish Toronto Calendar\nhtt
 ps://jewishtoronto.com/calendar/the-power-of-art-and-mindfulness--stitchin
 g-the-social-fabric-together-1515196169\n\nA Temple Sinai Program: The Pow
 er of Art and Mindfulness — Stitching the Social Fabric Together\n\nJoin
  Dr. Abrams as he shares his vision for global health and his recent globa
 l social awareness initiative\, improving mental health and connecting com
 munities\, both locally and globally\, in Canada\, India and Israel. Dr. M
 itchell Abrams\, a Canadian radiologist and an Associate Professor at Mich
 ael G. DeGroote Medical School\, has combined his passion for music and me
 dicine and has founded a not...
DTSTART;TZID=America/Toronto:20180211T101500
DTEND;TZID=America/Toronto:20180211T121500
END:VEVENT
END:VCALENDAR
