BEGIN:VCALENDAR
PRODID:-//eluceo/ical//2.0/EN
VERSION:2.0
CALSCALE:GREGORIAN
BEGIN:VEVENT
UID:05220c8aaab0dfbf0b7ea1dc17cc8400
DTSTAMP:20260420T095105Z
SUMMARY:The Next Generation Olympic Spring Training
DESCRIPTION:UJA Federation of Greater Toronto\nJewish Toronto Calendar\nhtt
 ps://jewishtoronto.com/calendar/the-next-generation-olympic-spring-trainin
 g\n\nThe Next Generation (ages 25 to 39) Olympic Spring Training (in Winte
 r!) with two-time Olympian Dr. Josh Binstock\n\nGet out your shorts and sp
 orting gear and head over to Beach Blast for an exclusive beach volleyball
  coaching session with Olympic superstar and member of the tribe Josh Bins
 tock. Josh will teach us the fundamentals of the game\, and then we’ll b
 reak up into teams and practice our new skills. We’ll also have the oppo
 rtunity to hear Josh’s story and conclude with Havdalah a...
DTSTART;TZID=America/Toronto:20180120T160000
DTEND;TZID=America/Toronto:20180120T180000
END:VEVENT
END:VCALENDAR
