BEGIN:VCALENDAR
PRODID:-//eluceo/ical//2.0/EN
VERSION:2.0
CALSCALE:GREGORIAN
BEGIN:VEVENT
UID:38203fbc73a252f9ecb916f540ae6769
DTSTAMP:20260425T202238Z
SUMMARY:The New Moon Shines with Aviva Chernick
DESCRIPTION:UJA Federation of Greater Toronto\nJewish Toronto Calendar\nhtt
 ps://jewishtoronto.com/calendar/the-new-moon-shines-with-aviva-chernick\n\
 nJoin Aviva Chernick as she guides us in celebrating the new moon\, Rosh C
 hodesh\, with song and silence contemplation and community. Wear comfortab
 le clothing.
DTSTART;TZID=America/Toronto:20150121T193000
DTEND;TZID=America/Toronto:20150121T213000
END:VEVENT
END:VCALENDAR
