BEGIN:VCALENDAR
PRODID:-//eluceo/ical//2.0/EN
VERSION:2.0
CALSCALE:GREGORIAN
BEGIN:VEVENT
UID:c74690060d6a657274bd8b358c3c604d
DTSTAMP:20260424T055610Z
SUMMARY:The Mifgash Theatre - Lysistrata 2000
DESCRIPTION:UJA Federation of Greater Toronto\nJewish Toronto Calendar\nhtt
 ps://jewishtoronto.com/calendar/the-mifgash-theatre-lysistrata-2000\n\nWri
 tten:  Anat Gov\n\nDirector:  Yael Feingold
DTSTART;TZID=America/Toronto:20150214T200000
DTEND;TZID=America/Toronto:20150214T220000
END:VEVENT
END:VCALENDAR
