BEGIN:VCALENDAR
PRODID:-//eluceo/ical//2.0/EN
VERSION:2.0
CALSCALE:GREGORIAN
BEGIN:VEVENT
UID:0bc5e72cde9047cdc0b591f1010563f1
DTSTAMP:20260423T221525Z
SUMMARY:The Many Faces of Medical Marijuana
DESCRIPTION:UJA Federation of Greater Toronto\nJewish Toronto Calendar\nhtt
 ps://jewishtoronto.com/calendar/the-many-faces-of-medical-marijuana\n\nPre
 sented by UJA Business Cabinet & Health Division.
DTSTART;TZID=America/Toronto:20141211T193000
DTEND;TZID=America/Toronto:20141211T213000
END:VEVENT
END:VCALENDAR
