BEGIN:VCALENDAR
PRODID:-//eluceo/ical//2.0/EN
VERSION:2.0
CALSCALE:GREGORIAN
BEGIN:VEVENT
UID:a100767de294af46123752f3d148866e
DTSTAMP:20260422T073226Z
SUMMARY:The Magic of Save a Child's Heart
DESCRIPTION:UJA Federation of Greater Toronto\nJewish Toronto Calendar\nhtt
 ps://jewishtoronto.com/calendar/the-magic-of-save-a-childs-heart-161192930
 8\n\nThe Magic of Save a Child's Heart - a virtual event. Details to come.
  For more information\, please contact jodi@saveachildsheart.ca
DTSTART;TZID=America/Toronto:20210512T200000
DTEND;TZID=America/Toronto:20210512T220000
END:VEVENT
END:VCALENDAR
