BEGIN:VCALENDAR
PRODID:-//eluceo/ical//2.0/EN
VERSION:2.0
CALSCALE:GREGORIAN
BEGIN:VEVENT
UID:89da0848f20a9641af6a2879348b12d8
DTSTAMP:20260419T193610Z
SUMMARY:The Living Legacy Experience to Poland
DESCRIPTION:UJA Federation of Greater Toronto\nJewish Toronto Calendar\nhtt
 ps://jewishtoronto.com/calendar/the-living-legacy-experience-to-poland-167
 0266025\n\nThe Living Legacy Experience offers the opportunity at a highly
  subsidized price\, to travel to Poland with a Holocaust Survivor\, visit 
 the sites of the former Concentration Camps and engage in deep and meaning
 ful discussions about the future of Holocaust education and the Jewish peo
 ple.
DTSTART;TZID=America/Toronto:20230514T223000
DTEND;TZID=America/Toronto:20230521T203500
END:VEVENT
END:VCALENDAR
