BEGIN:VCALENDAR
PRODID:-//eluceo/ical//2.0/EN
VERSION:2.0
CALSCALE:GREGORIAN
BEGIN:VEVENT
UID:778448206f3697c37610471bf990b35f
DTSTAMP:20260425T222431Z
SUMMARY:The Legacy Portrait Project
DESCRIPTION:UJA Federation of Greater Toronto\nJewish Toronto Calendar\nhtt
 ps://jewishtoronto.com/calendar/the-legacy-portrait-project-1679930719\n\n
 10 Holocaust survivors were photographed with their grandchildren and grea
 t-grandchildren. 7 Holocaust survivors were also interviewed to discuss wh
 at it means to share in their grandparent’s legacy. This is a digital pr
 oject that was shared across social media (Instagram\, Twitter\, Facebook\
 , LinkedIn). The second phase of the project is to create an exhibition. T
 he exhibition will contain 12 foam core boards that would sit on easels - 
 after the exhibition\, they can be used as a travelling...
DTSTART;TZID=America/Toronto:20230418T123000
DTEND;TZID=America/Toronto:20230424T160000
END:VEVENT
END:VCALENDAR
