BEGIN:VCALENDAR
PRODID:-//eluceo/ical//2.0/EN
VERSION:2.0
CALSCALE:GREGORIAN
BEGIN:VEVENT
UID:f8e30a343dd2f91d6840f65a5d6bce48
DTSTAMP:20260425T170633Z
SUMMARY:The JNF Future Shabbat Experience 
DESCRIPTION:UJA Federation of Greater Toronto\nJewish Toronto Calendar\nhtt
 ps://jewishtoronto.com/calendar/the-jnf-future-shabbat-experience-14564242
 37\n\nJNF Future invites young professionals and their children for a nigh
 t of Israeli food and great company!
DTSTART;TZID=America/Toronto:20160401T180000
DTEND;TZID=America/Toronto:20160401T210000
END:VEVENT
END:VCALENDAR
