BEGIN:VCALENDAR
PRODID:-//eluceo/ical//2.0/EN
VERSION:2.0
CALSCALE:GREGORIAN
BEGIN:VEVENT
UID:4db5181af9f7b340956bad949ca94d24
DTSTAMP:20260423T040442Z
SUMMARY:The Jewish world of Leonard Cohen\, with Peter Sevitt
DESCRIPTION:UJA Federation of Greater Toronto\nJewish Toronto Calendar\nhtt
 ps://jewishtoronto.com/calendar/the-jewish-world-of-leonard-cohen-with-pet
 er-sevitt-1548629795\n\nIn a tribute to Leonard Cohen's work over six deca
 des we will explore his background\, look at the religious aspect of the m
 an and listen to his songs and poems. Peter Sevitt has presented on Leonar
 d Cohen’s Jewish influences on his music and his poetry.
DTSTART;TZID=America/Toronto:20190309T193000
DTEND;TZID=America/Toronto:20190309T213000
END:VEVENT
END:VCALENDAR
