BEGIN:VCALENDAR
PRODID:-//eluceo/ical//2.0/EN
VERSION:2.0
CALSCALE:GREGORIAN
BEGIN:VEVENT
UID:e551b4be12a653c127188d7e9686ac72
DTSTAMP:20260420T114611Z
SUMMARY:The Imam of Peace
DESCRIPTION:UJA Federation of Greater Toronto\nJewish Toronto Calendar\nhtt
 ps://jewishtoronto.com/calendar/the-imam-of-peace-1755611352\n\nBeth Torah
  Congregation is so excited and honoured to announce that Imam Mohammad Ta
 whidi\, known as The Imam of Peace will be speaking at our Selichot Servic
 e\, Motzi Shabbat on Saturday\, September 13\, 2025\, starting @ 8:45 pm. 
 A moderated Q&A will take place following his talk. \n\nImam is an Irania
 n-born Islamic scholar\, writer\, and intellectual recognized for addressi
 ng misconceptions about Islam\, challenging extremist ideologies\, advocat
 ing for pluralism\, peace\, and the rule of law\, takin...
DTSTART;TZID=America/Toronto:20250913T204500
DTEND;TZID=America/Toronto:20250913T230000
END:VEVENT
END:VCALENDAR
