BEGIN:VCALENDAR
PRODID:-//eluceo/ical//2.0/EN
VERSION:2.0
CALSCALE:GREGORIAN
BEGIN:VEVENT
UID:6cc7219e20b1fcc580ff59612319be37
DTSTAMP:20260422T042546Z
SUMMARY:The House: Having it All
DESCRIPTION:UJA Federation of Greater Toronto\nJewish Toronto Calendar\nhtt
 ps://jewishtoronto.com/calendar/the-house-having-it-all-1460145445\n\n DET
 AILS AT A GLANCE\n\n TYPE: Women's Gathering\n COST: $15 \n DATE: May 5th 
 2016\n TIME: 7:30 - 9:30pm\n\n LOCATION: To Be Announced\n PARKING: Street
  Parking\n\n FOOD: Light Appetizers Passed\n DRESS CODE: Casual\n\n COMMIT
 TEE: Rebecca Cherniak\, Stephanie Lubchansky\, Nora Zwingerman\, Alex Cope
 land\n\n TICKETS: http://havingitall2016.eventbrite.ca/\n WEBSITE: thehous
 etoronto.com/event/having-it-all/ \n\n For more information\, contact Bonn
 ie Oppenheimer:\n...
DTSTART;TZID=America/Toronto:20160505T193000
DTEND;TZID=America/Toronto:20160505T213000
END:VEVENT
END:VCALENDAR
