BEGIN:VCALENDAR
PRODID:-//eluceo/ical//2.0/EN
VERSION:2.0
CALSCALE:GREGORIAN
BEGIN:VEVENT
UID:5eeb32c275a632939b8d55594e3143af
DTSTAMP:20260423T220430Z
SUMMARY:The History of the Undergarment
DESCRIPTION:UJA Federation of Greater Toronto\nJewish Toronto Calendar\nhtt
 ps://jewishtoronto.com/calendar/the-history-of-the-undergarment-1457109350
 \n\nTHZ Sisterhood presents 'The History of the Undergarment' with profess
 ional bra maker Leah Hoogkamp.\nAdmission: Sisterhood members: $3.00 Commu
 nity Guests: $6.00
DTSTART;TZID=America/Toronto:20160414T200000
DTEND;TZID=America/Toronto:20160414T213000
END:VEVENT
END:VCALENDAR
