BEGIN:VCALENDAR
PRODID:-//eluceo/ical//2.0/EN
VERSION:2.0
CALSCALE:GREGORIAN
BEGIN:VEVENT
UID:e7ae9add941622367e40d9815f90c86a
DTSTAMP:20260420T022129Z
SUMMARY:The Good Nazi
DESCRIPTION:UJA Federation of Greater Toronto\nJewish Toronto Calendar\nhtt
 ps://jewishtoronto.com/calendar/the-good-nazi-1543958098\n\nBAYT is thrill
 ed to present the North American Premiere of Simcha Jacobovici’s new fil
 m\, THE GOOD NAZI. Directed by Ric Esther Bienstock\, the movie is based o
 n the life of Major Karl Plagge\, a member of the SS\, who during World Wa
 r 2 established a forced labour camp outside of the Vilna Ghetto. In the c
 amp known as HKP 562\, Plagge sought to save as many Jews as he could util
 izing work permits issued on the false premise that the holders' skills we
 re vital to the German war effort.\n\nThanks...
DTSTART;TZID=America/Toronto:20190119T193000
DTEND;TZID=America/Toronto:20190119T223000
END:VEVENT
END:VCALENDAR
