BEGIN:VCALENDAR
PRODID:-//eluceo/ical//2.0/EN
VERSION:2.0
CALSCALE:GREGORIAN
BEGIN:VEVENT
UID:62a2ef7d657494851f9c9c9ab69da1ac
DTSTAMP:20260421T182000Z
SUMMARY:The Golden Age of Spain
DESCRIPTION:UJA Federation of Greater Toronto\nJewish Toronto Calendar\nhtt
 ps://jewishtoronto.com/calendar/the-golden-age-of-spain-1494353937\n\nExpl
 oring the Middle Ages of Jewish Spain. It’s glory and bitter end in 1492
 .\n\nThe Jewish story of Spain as told in music\, poetry and study\, organ
 ized by the Cantors Assembly Mission to Spain in the summer of 2016.\n\nPr
 esentation by Cantor Beny and Hope Maissner who led a congregational tour 
 sponsored by the Cantors Assembly.\n\nAn audio visual presentation by Cant
 or Beny and Hope Maissner.\n\nA round table with Dr. Karen Mock and Mrs. R
 ouhama Danto and other participants in the tour wil...
DTSTART;TZID=America/Toronto:20170605T193000
DTEND;TZID=America/Toronto:20170605T210000
END:VEVENT
END:VCALENDAR
