BEGIN:VCALENDAR
PRODID:-//eluceo/ical//2.0/EN
VERSION:2.0
CALSCALE:GREGORIAN
BEGIN:VEVENT
UID:9e8b0a65bae1ac69a5f602233fab6102
DTSTAMP:20260421T115331Z
SUMMARY:The Golden Age of Operetta
DESCRIPTION:UJA Federation of Greater Toronto\nJewish Toronto Calendar\nhtt
 ps://jewishtoronto.com/calendar/the-golden-age-of-operetta-1503951451\n\nT
 he Toronto Operetta Theater Ensemble presents highlights from “The Golde
 n Age of Operetta”. Members: $7.00\, Non Members: $10.00. RSVP Rose Hasp
 el at (905) 764-8141 by November 20\, 2017.
DTSTART;TZID=America/Toronto:20171126T133000
DTEND;TZID=America/Toronto:20171126T150000
END:VEVENT
END:VCALENDAR
