BEGIN:VCALENDAR
PRODID:-//eluceo/ical//2.0/EN
VERSION:2.0
CALSCALE:GREGORIAN
BEGIN:VEVENT
UID:cf612c6b70aa61ec631ce776e043f04e
DTSTAMP:20260419T222841Z
SUMMARY:The Genesis Project: Science Meets Jewish Thought at Beth Tzedec
DESCRIPTION:UJA Federation of Greater Toronto\nJewish Toronto Calendar\nhtt
 ps://jewishtoronto.com/calendar/the-genesis-project-science-meets-jewish-t
 hought-at-beth-tzedec-1507671560\n\nThe Genesis Project - Day 5\nKosher po
 rk? Lab-grown hearts? Jewish challenges in the age of biotechnology. Actua
 l meat grown in a dish\, not on the farm? Bio-identical organs created in 
 a lab? Explore the scientific prospects\, the bioethical questions\, and t
 he halakhic issues with guest speakers:\nRabbi Daniel Nevins\, Dean of the
  Rabbinical School\, Jewish Theological Seminary\nDr. Milica Radisic\, Pro
 f. and Canada Research Chair in Functional Cardiovascular Tissue Engineeri
 ng\, U of T\nDr. Steve...
DTSTART;TZID=America/Toronto:20171030T193000
DTEND;TZID=America/Toronto:20171030T213000
END:VEVENT
END:VCALENDAR
